Workbook

Sheet All
A1: Max. level is 3mm below bottom of vent tube. Top to bottom of tube is 25mm so max is actually 28mm from top where cap screws into vent. | K1: Date Code | L1: F8 on Neg., Blank Pos.
L2: BD138AAP0434
A3: Equalise if SG in cell <1.25 when fully charged or SG diff. between cells is 0.03 | K3: Manufactured | L3: August, 2018
A4: Equalisation charge: 15.5V & measure the specific gravity every hour. Discontinue the equalization charge when the SG no longer rises
A5: Factory specification 1.270 - 1.284
B7: Batt. 1 | C7: Batt. 2 | D7: Batt. 3 | E7: Batt. 4 | F7: Total
A8: Water (mls) | B8: =Batt1!J4 -> 3115 | C8: =Batt2!J4 -> 3895 | D8: =Batt3!J4 -> 2905 | E8: =Batt4!J4 -> 3915 | F8: =SUM(B8:E8) -> 13830
A9: % | B9: =B8/$F8 -> 0.225235 | C9: =C8/$F8 -> 0.28163413 | D9: =D8/$F8 -> 0.21005061 | E9: =E8/$F8 -> 0.28308026
C11: Across all batteries | F11: Individual battery
A12: Date | B12: Temp C | C12: Min. SG | D12: Max. SG | E12: Max. SG Diff. | F12: Max. SG Diff. | G12: V (Avg) | H12: Charge (SG) | I12: SmartGauge | J12: Comment
A13: 43636 | B13: 27 | C13: =MIN(MIN(Batt1!C9,Batt1!E9,Batt1!G9),MIN(Batt2!C9,Batt2!E9,Batt2!G9),MIN(Batt3!C9,Batt3!E9,Batt3!G9),MIN(Batt4!C9,Batt4!E9,Batt4!G9)) -> 1.265 | D13: =MAX(MAX(Batt1!C9,Batt1!E9,Batt1!G9),MAX(Batt2!C9,Batt2!E9,Batt2!G9),MAX(Batt3!C9,Batt3!E9,Batt3!G9),MAX(Batt4!C9,Batt4!E9,Batt4!G9)) -> 1.273 | E13: =D13-C13 -> 0.008 | F13: =MAX(Batt1!I9,Batt2!I9,Batt3!I9,Batt4!I9) -> 0.003 | G13: =(Batt1!B9+Batt2!B9+Batt3!B9+Batt4!B9)/2 -> 12.55 | H13: =(Batt1!K9+Batt2!K9+Batt3!K9+Batt4!K9)/4 -> 0.95625 | I13: N/A | J13: New. Set on mains charge at 14.3V overnight
A14: 43637 | B14: 28 | C14: =MIN(MIN(Batt1!C10,Batt1!E10,Batt1!G10),MIN(Batt2!C10,Batt2!E10,Batt2!G10),MIN(Batt3!C10,Batt3!E10,Batt3!G10),MIN(Batt4!C10,Batt4!E10,Batt4!G10)) -> 1.283 | D14: =MAX(MAX(Batt1!C10,Batt1!E10,Batt1!G10),MAX(Batt2!C10,Batt2!E10,Batt2!G10),MAX(Batt3!C10,Batt3!E10,Batt3!G10),MAX(Batt4!C10,Batt4!E10,Batt4!G10)) -> 1.292 | E14: =D14-C14 -> 0.009 | F14: =MAX(Batt1!I10,Batt2!I10,Batt3!I10,Batt4!I10) -> 0.003 | G14: =(Batt1!B10+Batt2!B10+Batt3!B10+Batt4!B10)/2 -> 13.24 | H14: =(Batt1!K10+Batt2!K10+Batt3!K10+Batt4!K10)/4 -> 1.05375 | I14: N/A | J14: Levels all rose to 4-5mm above spec. after 16 hours charging
A15: 43638 | B15: 32 | C15: =MIN(MIN(Batt1!C11,Batt1!E11,Batt1!G11),MIN(Batt2!C11,Batt2!E11,Batt2!G11),MIN(Batt3!C11,Batt3!E11,Batt3!G11),MIN(Batt4!C11,Batt4!E11,Batt4!G11)) -> 1.288 | D15: =MAX(MAX(Batt1!C11,Batt1!E11,Batt1!G11),MAX(Batt2!C11,Batt2!E11,Batt2!G11),MAX(Batt3!C11,Batt3!E11,Batt3!G11),MAX(Batt4!C11,Batt4!E11,Batt4!G11)) -> 1.297 | E15: =D15-C15 -> 0.009 | F15: =MAX(Batt1!I11,Batt2!I11,Batt3!I11,Batt4!I11) -> 0.007 | G15: =(Batt1!B11+Batt2!B11+Batt3!B11+Batt4!B11)/2 -> 14.16 | H15: =(Batt1!K11+Batt2!K11+Batt3!K11+Batt4!K11)/4 -> 1.0775 | I15: 1
A16: 43660 | B16: 30 | C16: =MIN(MIN(Batt1!C12,Batt1!E12,Batt1!G12),MIN(Batt2!C12,Batt2!E12,Batt2!G12),MIN(Batt3!C12,Batt3!E12,Batt3!G12),MIN(Batt4!C12,Batt4!E12,Batt4!G12)) -> 1.256 | D16: =MAX(MAX(Batt1!C12,Batt1!E12,Batt1!G12),MAX(Batt2!C12,Batt2!E12,Batt2!G12),MAX(Batt3!C12,Batt3!E12,Batt3!G12),MAX(Batt4!C12,Batt4!E12,Batt4!G12)) -> 1.273 | E16: =D16-C16 -> 0.017 | F16: =MAX(Batt1!I12,Batt2!I12,Batt3!I12,Batt4!I12) -> 0.01 | G16: =(Batt1!B12+Batt2!B12+Batt3!B12+Batt4!B12)/2 -> 0 | H16: =(Batt1!K12+Batt2!K12+Batt3!K12+Batt4!K12)/4 -> 0.95125 | I16: 1 | J16: SG measured after adding water (more like 1.29 before watering)
A17: 43661 | B17: 30 | C17: =MIN(MIN(Batt1!C13,Batt1!E13,Batt1!G13),MIN(Batt2!C13,Batt2!E13,Batt2!G13),MIN(Batt3!C13,Batt3!E13,Batt3!G13),MIN(Batt4!C13,Batt4!E13,Batt4!G13)) -> 1.268 | D17: =MAX(MAX(Batt1!C13,Batt1!E13,Batt1!G13),MAX(Batt2!C13,Batt2!E13,Batt2!G13),MAX(Batt3!C13,Batt3!E13,Batt3!G13),MAX(Batt4!C13,Batt4!E13,Batt4!G13)) -> 1.277 | E17: =D17-C17 -> 0.009 | F17: =MAX(Batt1!I13,Batt2!I13,Batt3!I13,Batt4!I13) -> 0.006 | G17: =(Batt1!B13+Batt2!B13+Batt3!B13+Batt4!B13)/2 -> 0 | H17: =(Batt1!K13+Batt2!K13+Batt3!K13+Batt4!K13)/4 -> 0.9925 | I17: 0.91 | J17: 10:00 and SG much higher than Smartgauge
A18: 43698 | B18: 34 | C18: =MIN(MIN(Batt1!C14,Batt1!E14,Batt1!G14),MIN(Batt2!C14,Batt2!E14,Batt2!G14),MIN(Batt3!C14,Batt3!E14,Batt3!G14),MIN(Batt4!C14,Batt4!E14,Batt4!G14)) -> 1.289 | D18: =MAX(MAX(Batt1!C14,Batt1!E14,Batt1!G14),MAX(Batt2!C14,Batt2!E14,Batt2!G14),MAX(Batt3!C14,Batt3!E14,Batt3!G14),MAX(Batt4!C14,Batt4!E14,Batt4!G14)) -> 1.3 | E18: =D18-C18 -> 0.011 | F18: =MAX(Batt1!I14,Batt2!I14,Batt3!I14,Batt4!I14) -> 0.008 | G18: =(Batt1!B14+Batt2!B14+Batt3!B14+Batt4!B14)/2 -> 0 | H18: =(Batt1!K14+Batt2!K14+Batt3!K14+Batt4!K14)/4 -> 1.09875 | I18: 1 | J18: Water added after SG measured
A19: 43705 | B19: 33 | C19: =MIN(MIN(Batt1!C15,Batt1!E15,Batt1!G15),MIN(Batt2!C15,Batt2!E15,Batt2!G15),MIN(Batt3!C15,Batt3!E15,Batt3!G15),MIN(Batt4!C15,Batt4!E15,Batt4!G15)) -> 1.275 | D19: =MAX(MAX(Batt1!C15,Batt1!E15,Batt1!G15),MAX(Batt2!C15,Batt2!E15,Batt2!G15),MAX(Batt3!C15,Batt3!E15,Batt3!G15),MAX(Batt4!C15,Batt4!E15,Batt4!G15)) -> 1.288 | E19: =D19-C19 -> 0.013 | F19: =MAX(Batt1!I15,Batt2!I15,Batt3!I15,Batt4!I15) -> 0.009 | G19: =(Batt1!B15+Batt2!B15+Batt3!B15+Batt4!B15)/2 -> 0 | H19: =(Batt1!K15+Batt2!K15+Batt3!K15+Batt4!K15)/4 -> 1.02 | I19: 1 | J19: SmartGauge was 97%, reset to 100%
A20: 43726 | B20: 30 | C20: =MIN(MIN(Batt1!C16,Batt1!E16,Batt1!G16),MIN(Batt2!C16,Batt2!E16,Batt2!G16),MIN(Batt3!C16,Batt3!E16,Batt3!G16),MIN(Batt4!C16,Batt4!E16,Batt4!G16)) -> 1.265 | D20: =MAX(MAX(Batt1!C16,Batt1!E16,Batt1!G16),MAX(Batt2!C16,Batt2!E16,Batt2!G16),MAX(Batt3!C16,Batt3!E16,Batt3!G16),MAX(Batt4!C16,Batt4!E16,Batt4!G16)) -> 1.277 | E20: =D20-C20 -> 0.012 | F20: =MAX(Batt1!I16,Batt2!I16,Batt3!I16,Batt4!I16) -> 0.007 | G20: =(Batt1!B16+Batt2!B16+Batt3!B16+Batt4!B16)/2 -> 0 | H20: =(Batt1!K16+Batt2!K16+Batt3!K16+Batt4!K16)/4 -> 0.9825 | I20: 1 | J20: Water added at 100% SOC 2 days before SG measured
A21: 43756 | B21: 28.5 | C21: =MIN(MIN(Batt1!C17,Batt1!E17,Batt1!G17),MIN(Batt2!C17,Batt2!E17,Batt2!G17),MIN(Batt3!C17,Batt3!E17,Batt3!G17),MIN(Batt4!C17,Batt4!E17,Batt4!G17)) -> 1.295 | D21: =MAX(MAX(Batt1!C17,Batt1!E17,Batt1!G17),MAX(Batt2!C17,Batt2!E17,Batt2!G17),MAX(Batt3!C17,Batt3!E17,Batt3!G17),MAX(Batt4!C17,Batt4!E17,Batt4!G17)) -> 1.305 | E21: =D21-C21 -> 0.01 | F21: =MAX(Batt1!I17,Batt2!I17,Batt3!I17,Batt4!I17) -> 0.007 | G21: =(Batt1!B17+Batt2!B17+Batt3!B17+Batt4!B17)/2 -> 0 | H21: =(Batt1!K17+Batt2!K17+Batt3!K17+Batt4!K17)/4 -> 1.115 | I21: 1 | J21: Water added after SG measured
A22: 43757 | B22: 24.6 | C22: =MIN(MIN(Batt1!C18,Batt1!E18,Batt1!G18),MIN(Batt2!C18,Batt2!E18,Batt2!G18),MIN(Batt3!C18,Batt3!E18,Batt3!G18),MIN(Batt4!C18,Batt4!E18,Batt4!G18)) -> 1.267 | D22: =MAX(MAX(Batt1!C18,Batt1!E18,Batt1!G18),MAX(Batt2!C18,Batt2!E18,Batt2!G18),MAX(Batt3!C18,Batt3!E18,Batt3!G18),MAX(Batt4!C18,Batt4!E18,Batt4!G18)) -> 1.286 | E22: =D22-C22 -> 0.019 | F22: =MAX(Batt1!I18,Batt2!I18,Batt3!I18,Batt4!I18) -> 0.012 | G22: =(Batt1!B18+Batt2!B18+Batt3!B18+Batt4!B18)/2 -> 13.465 | H22: =(Batt1!K18+Batt2!K18+Batt3!K18+Batt4!K18)/4 -> 0.995 | I22: 1 | J22: Power cut on previous day batt. 99% then 100% on 245W solar. Mainly 13.6V on mains overnight after top up.
A23: 44449 | B23: 25 | C23: =MIN(MIN(Batt1!C19,Batt1!E19,Batt1!G19),MIN(Batt2!C19,Batt2!E19,Batt2!G19),MIN(Batt3!C19,Batt3!E19,Batt3!G19),MIN(Batt4!C19,Batt4!E19,Batt4!G19)) -> 0 | D23: =MAX(MAX(Batt1!C19,Batt1!E19,Batt1!G19),MAX(Batt2!C19,Batt2!E19,Batt2!G19),MAX(Batt3!C19,Batt3!E19,Batt3!G19),MAX(Batt4!C19,Batt4!E19,Batt4!G19)) -> 0 | E23: =D23-C23 -> 0 | F23: =MAX(Batt1!I19,Batt2!I19,Batt3!I19,Batt4!I19) -> 0 | G23: =(Batt1!B19+Batt2!B19+Batt3!B19+Batt4!B19)/2 -> 13.24 | J23: Stored 693 days on 9th Sept. 21, added 120mls initially & rest on 11th
A24: 44450 | B24: 25 | C24: =MIN(MIN(Batt1!C20,Batt1!E20,Batt1!G20),MIN(Batt2!C20,Batt2!E20,Batt2!G20),MIN(Batt3!C20,Batt3!E20,Batt3!G20),MIN(Batt4!C20,Batt4!E20,Batt4!G20)) -> 1.23 | D24: =MAX(MAX(Batt1!C20,Batt1!E20,Batt1!G20),MAX(Batt2!C20,Batt2!E20,Batt2!G20),MAX(Batt3!C20,Batt3!E20,Batt3!G20),MAX(Batt4!C20,Batt4!E20,Batt4!G20)) -> 1.266 | E24: =D24-C24 -> 0.036 | F24: =MAX(Batt1!I20,Batt2!I20,Batt3!I20,Batt4!I20) -> 0.023 | G24: =(Batt1!B20+Batt2!B20+Batt3!B20+Batt4!B20)/2 -> 0 | H24: =(Batt1!K20+Batt2!K20+Batt3!K20+Batt4!K20)/4 -> 0.8375 | J24: On boost 14.9V 1.5hrs to mix electroyte partially
A25: 44452 | B25: 25 | C25: =MIN(MIN(Batt1!C21,Batt1!E21,Batt1!G21),MIN(Batt2!C21,Batt2!E21,Batt2!G21),MIN(Batt3!C21,Batt3!E21,Batt3!G21),MIN(Batt4!C21,Batt4!E21,Batt4!G21)) -> 1.258 | D25: =MAX(MAX(Batt1!C21,Batt1!E21,Batt1!G21),MAX(Batt2!C21,Batt2!E21,Batt2!G21),MAX(Batt3!C21,Batt3!E21,Batt3!G21),MAX(Batt4!C21,Batt4!E21,Batt4!G21)) -> 1.283 | E25: =D25-C25 -> 0.025 | F25: =MAX(Batt1!I21,Batt2!I21,Batt3!I21,Batt4!I21) -> 0.015 | G25: =(Batt1!B21+Batt2!B21+Batt3!B21+Batt4!B21)/2 -> 0 | H25: =(Batt1!K21+Batt2!K21+Batt3!K21+Batt4!K21)/4 -> 0.957 | J25: On boost 14.9V 4.5hrs to mix electroyte partially
A26: 44453 | B26: 27 | C26: =MIN(MIN(Batt1!C22,Batt1!E22,Batt1!G22),MIN(Batt2!C22,Batt2!E22,Batt2!G22),MIN(Batt3!C22,Batt3!E22,Batt3!G22),MIN(Batt4!C22,Batt4!E22,Batt4!G22)) -> 1.283 | D26: =MAX(MAX(Batt1!C22,Batt1!E22,Batt1!G22),MAX(Batt2!C22,Batt2!E22,Batt2!G22),MAX(Batt3!C22,Batt3!E22,Batt3!G22),MAX(Batt4!C22,Batt4!E22,Batt4!G22)) -> 1.298 | E26: =D26-C26 -> 0.015 | F26: =MAX(Batt1!I22,Batt2!I22,Batt3!I22,Batt4!I22) -> 0.009 | G26: =(Batt1!B22+Batt2!B22+Batt3!B22+Batt4!B22)/2 -> 0 | H26: =(Batt1!K22+Batt2!K22+Batt3!K22+Batt4!K22)/4 -> 1.06125 | J26: On boost 14.9V 13.3A 1hr then 14.31V 6.5A
A27: 44462 | B27: 25 | C27: =MIN(MIN(Batt1!C23,Batt1!E23,Batt1!G23),MIN(Batt2!C23,Batt2!E23,Batt2!G23),MIN(Batt3!C23,Batt3!E23,Batt3!G23),MIN(Batt4!C23,Batt4!E23,Batt4!G23)) -> 1.287 | D27: =MAX(MAX(Batt1!C23,Batt1!E23,Batt1!G23),MAX(Batt2!C23,Batt2!E23,Batt2!G23),MAX(Batt3!C23,Batt3!E23,Batt3!G23),MAX(Batt4!C23,Batt4!E23,Batt4!G23)) -> 1.3 | E27: =D27-C27 -> 0.013 | F27: =MAX(Batt1!I23,Batt2!I23,Batt3!I23,Batt4!I23) -> 0.008 | G27: =(Batt1!B23+Batt2!B23+Batt3!B23+Batt4!B23)/2 -> 0 | H27: =(Batt1!K23+Batt2!K23+Batt3!K23+Batt4!K23)/4 -> 1.0775 | J27: Water added after SG measured
A28: 44671 | B28: 20 | C28: =MIN(MIN(Batt1!C24,Batt1!E24,Batt1!G24),MIN(Batt2!C24,Batt2!E24,Batt2!G24),MIN(Batt3!C24,Batt3!E24,Batt3!G24),MIN(Batt4!C24,Batt4!E24,Batt4!G24)) -> 1.286 | D28: =MAX(MAX(Batt1!C24,Batt1!E24,Batt1!G24),MAX(Batt2!C24,Batt2!E24,Batt2!G24),MAX(Batt3!C24,Batt3!E24,Batt3!G24),MAX(Batt4!C24,Batt4!E24,Batt4!G24)) -> 1.298 | E28: =D28-C28 -> 0.012 | F28: =MAX(Batt1!I24,Batt2!I24,Batt3!I24,Batt4!I24) -> 0.008 | G28: =(Batt1!B24+Batt2!B24+Batt3!B24+Batt4!B24)/2 -> 0 | H28: =(Batt1!K24+Batt2!K24+Batt3!K24+Batt4!K24)/4 -> 1.0775 | I28: 1 | J28: Water added after SG measured
A29: 44724 | B29: 30 | C29: =MIN(MIN(Batt1!C25,Batt1!E25,Batt1!G25),MIN(Batt2!C25,Batt2!E25,Batt2!G25),MIN(Batt3!C25,Batt3!E25,Batt3!G25),MIN(Batt4!C25,Batt4!E25,Batt4!G25)) -> 1.297 | D29: =MAX(MAX(Batt1!C25,Batt1!E25,Batt1!G25),MAX(Batt2!C25,Batt2!E25,Batt2!G25),MAX(Batt3!C25,Batt3!E25,Batt3!G25),MAX(Batt4!C25,Batt4!E25,Batt4!G25)) -> 1.31 | E29: =D29-C29 -> 0.013 | F29: =MAX(Batt1!I25,Batt2!I25,Batt3!I25,Batt4!I25) -> 0.005 | G29: =(Batt1!B25+Batt2!B25+Batt3!B25+Batt4!B25)/2 -> 13.4 | H29: =(Batt1!K25+Batt2!K25+Batt3!K25+Batt4!K25)/4 -> 1.1275 | I29: 1 | J29: Water added after SG measured
A30: 44729 | B30: 31 | C30: =MIN(MIN(Batt1!C26,Batt1!E26,Batt1!G26),MIN(Batt2!C26,Batt2!E26,Batt2!G26),MIN(Batt3!C26,Batt3!E26,Batt3!G26),MIN(Batt4!C26,Batt4!E26,Batt4!G26)) -> 1.281 | D30: =MAX(MAX(Batt1!C26,Batt1!E26,Batt1!G26),MAX(Batt2!C26,Batt2!E26,Batt2!G26),MAX(Batt3!C26,Batt3!E26,Batt3!G26),MAX(Batt4!C26,Batt4!E26,Batt4!G26)) -> 1.293 | E30: =D30-C30 -> 0.012 | F30: =MAX(Batt1!I26,Batt2!I26,Batt3!I26,Batt4!I26) -> 0.003 | G30: =(Batt1!B26+Batt2!B26+Batt3!B26+Batt4!B26)/2 -> 0 | H30: =(Batt1!K26+Batt2!K26+Batt3!K26+Batt4!K26)/4 -> 1.0575 | I30: 1 | J30: Water added after SG measured
A31: 44759 | B31: 29.7 | C31: =MIN(MIN(Batt1!C27,Batt1!E27,Batt1!G27),MIN(Batt2!C27,Batt2!E27,Batt2!G27),MIN(Batt3!C27,Batt3!E27,Batt3!G27),MIN(Batt4!C27,Batt4!E27,Batt4!G27)) -> 1.276 | D31: =MAX(MAX(Batt1!C27,Batt1!E27,Batt1!G27),MAX(Batt2!C27,Batt2!E27,Batt2!G27),MAX(Batt3!C27,Batt3!E27,Batt3!G27),MAX(Batt4!C27,Batt4!E27,Batt4!G27)) -> 1.29 | E31: =D31-C31 -> 0.014 | F31: =MAX(Batt1!I27,Batt2!I27,Batt3!I27,Batt4!I27) -> 0.01 | G31: =(Batt1!B27+Batt2!B27+Batt3!B27+Batt4!B27)/2 -> 0 | H31: =(Batt1!K27+Batt2!K27+Batt3!K27+Batt4!K27)/4 -> 1.02625 | I31: 0.94 | J31: Water added after SG measured (Smartguage rising quickly from 92% min. with 17A,13.75V solar, 14.1V at reg.)
A32: 44801 | B32: 30.3 | C32: =MIN(MIN(Batt1!C28,Batt1!E28,Batt1!G28),MIN(Batt2!C28,Batt2!E28,Batt2!G28),MIN(Batt3!C28,Batt3!E28,Batt3!G28),MIN(Batt4!C28,Batt4!E28,Batt4!G28)) -> 1.276 | D32: =MAX(MAX(Batt1!C28,Batt1!E28,Batt1!G28),MAX(Batt2!C28,Batt2!E28,Batt2!G28),MAX(Batt3!C28,Batt3!E28,Batt3!G28),MAX(Batt4!C28,Batt4!E28,Batt4!G28)) -> 1.288 | E32: =D32-C32 -> 0.012 | F32: =MAX(Batt1!I28,Batt2!I28,Batt3!I28,Batt4!I28) -> 0.008 | G32: =(Batt1!B28+Batt2!B28+Batt3!B28+Batt4!B28)/2 -> 0 | H32: =(Batt1!K28+Batt2!K28+Batt3!K28+Batt4!K28)/4 -> 1.01875 | I32: 1 | J32: Water added after SG measured (Smartguagejust reached 100%)
A33: 44844 | B33: 28 | C33: =MIN(MIN(Batt1!C29,Batt1!E29,Batt1!G29),MIN(Batt2!C29,Batt2!E29,Batt2!G29),MIN(Batt3!C29,Batt3!E29,Batt3!G29),MIN(Batt4!C29,Batt4!E29,Batt4!G29)) -> 0 | D33: =MAX(MAX(Batt1!C29,Batt1!E29,Batt1!G29),MAX(Batt2!C29,Batt2!E29,Batt2!G29),MAX(Batt3!C29,Batt3!E29,Batt3!G29),MAX(Batt4!C29,Batt4!E29,Batt4!G29)) -> 0 | E33: =D33-C33 -> 0 | F33: =MAX(Batt1!I29,Batt2!I29,Batt3!I29,Batt4!I29) -> 0 | G33: =(Batt1!B29+Batt2!B29+Batt3!B29+Batt4!B29)/2 -> 0 | J33: Large amount of water added, SG not measured
A34: 44846 | B34: 28 | C34: =MIN(MIN(Batt1!C30,Batt1!E30,Batt1!G30),MIN(Batt2!C30,Batt2!E30,Batt2!G30),MIN(Batt3!C30,Batt3!E30,Batt3!G30),MIN(Batt4!C30,Batt4!E30,Batt4!G30)) -> 1.255 | D34: =MAX(MAX(Batt1!C30,Batt1!E30,Batt1!G30),MAX(Batt2!C30,Batt2!E30,Batt2!G30),MAX(Batt3!C30,Batt3!E30,Batt3!G30),MAX(Batt4!C30,Batt4!E30,Batt4!G30)) -> 1.274 | E34: =D34-C34 -> 0.019 | F34: =MAX(Batt1!I30,Batt2!I30,Batt3!I30,Batt4!I30) -> 0.015 | G34: =(Batt1!B30+Batt2!B30+Batt3!B30+Batt4!B30)/2 -> 0 | H34: =(Batt1!K30+Batt2!K30+Batt3!K30+Batt4!K30)/4 -> 0.93125 | I34: 1 | J34: Smartguage says 100%. Mains charger boost off since 10th. Turned on again to get 14.2V
A35: 44848 | B35: 20 | C35: =MIN(MIN(Batt1!C31,Batt1!E31,Batt1!G31),MIN(Batt2!C31,Batt2!E31,Batt2!G31),MIN(Batt3!C31,Batt3!E31,Batt3!G31),MIN(Batt4!C31,Batt4!E31,Batt4!G31)) -> 1.267 | D35: =MAX(MAX(Batt1!C31,Batt1!E31,Batt1!G31),MAX(Batt2!C31,Batt2!E31,Batt2!G31),MAX(Batt3!C31,Batt3!E31,Batt3!G31),MAX(Batt4!C31,Batt4!E31,Batt4!G31)) -> 1.283 | E35: =D35-C35 -> 0.016 | F35: =MAX(Batt1!I31,Batt2!I31,Batt3!I31,Batt4!I31) -> 0.01 | G35: =(Batt1!B31+Batt2!B31+Batt3!B31+Batt4!B31)/2 -> 0 | H35: =(Batt1!K31+Batt2!K31+Batt3!K31+Batt4!K31)/4 -> 1.00125 | I35: 1 | J35: Smartguage says 100%. Mains charger turned off & on again to get 14.2V. Boost turned off after 4 hours
A36: 45050 | B36: 23 | C36: =MIN(MIN(Batt1!C32,Batt1!E32,Batt1!G32),MIN(Batt2!C32,Batt2!E32,Batt2!G32),MIN(Batt3!C32,Batt3!E32,Batt3!G32),MIN(Batt4!C32,Batt4!E32,Batt4!G32)) -> 1.29 | D36: =MAX(MAX(Batt1!C32,Batt1!E32,Batt1!G32),MAX(Batt2!C32,Batt2!E32,Batt2!G32),MAX(Batt3!C32,Batt3!E32,Batt3!G32),MAX(Batt4!C32,Batt4!E32,Batt4!G32)) -> 1.301 | E36: =D36-C36 -> 0.011 | F36: =MAX(Batt1!I32,Batt2!I32,Batt3!I32,Batt4!I32) -> 0.008 | G36: =(Batt1!B32+Batt2!B32+Batt3!B32+Batt4!B32)/2 -> 0 | H36: =(Batt1!K32+Batt2!K32+Batt3!K32+Batt4!K32)/4 -> 1.1 | I36: 0.98 | J36: Water added after SG measured
A37: 45072 | B37: 23 | C37: =MIN(MIN(Batt1!C33,Batt1!E33,Batt1!G33),MIN(Batt2!C33,Batt2!E33,Batt2!G33),MIN(Batt3!C33,Batt3!E33,Batt3!G33),MIN(Batt4!C33,Batt4!E33,Batt4!G33)) -> 1.266 | D37: =MAX(MAX(Batt1!C33,Batt1!E33,Batt1!G33),MAX(Batt2!C33,Batt2!E33,Batt2!G33),MAX(Batt3!C33,Batt3!E33,Batt3!G33),MAX(Batt4!C33,Batt4!E33,Batt4!G33)) -> 1.278 | E37: =D37-C37 -> 0.012 | F37: =MAX(Batt1!I33,Batt2!I33,Batt3!I33,Batt4!I33) -> 0.011 | G37: =(Batt1!B33+Batt2!B33+Batt3!B33+Batt4!B33)/2 -> 0 | H37: =(Batt1!K33+Batt2!K33+Batt3!K33+Batt4!K33)/4 -> 0.965 | I37: 1 | J37: No water added. ePever regulator still on low setting and set to summer config. after these readings
A38: 45082 | B38: 26.3 | C38: =MIN(MIN(Batt1!C34,Batt1!E34,Batt1!G34),MIN(Batt2!C34,Batt2!E34,Batt2!G34),MIN(Batt3!C34,Batt3!E34,Batt3!G34),MIN(Batt4!C34,Batt4!E34,Batt4!G34)) -> 1.286 | D38: =MAX(MAX(Batt1!C34,Batt1!E34,Batt1!G34),MAX(Batt2!C34,Batt2!E34,Batt2!G34),MAX(Batt3!C34,Batt3!E34,Batt3!G34),MAX(Batt4!C34,Batt4!E34,Batt4!G34)) -> 1.298 | E38: =D38-C38 -> 0.012 | F38: =MAX(Batt1!I34,Batt2!I34,Batt3!I34,Batt4!I34) -> 0.01 | G38: =(Batt1!B34+Batt2!B34+Batt3!B34+Batt4!B34)/2 -> 0 | H38: =(Batt1!K34+Batt2!K34+Batt3!K34+Batt4!K34)/4 -> 1.08 | I38: 1 | J38: Water added after SG measured. Single 100W panel left and ePever back on winter settings
A39: 45545 | B39: 30.5 | C39: =MIN(MIN(Batt1!C35,Batt1!E35,Batt1!G35),MIN(Batt2!C35,Batt2!E35,Batt2!G35),MIN(Batt3!C35,Batt3!E35,Batt3!G35),MIN(Batt4!C35,Batt4!E35,Batt4!G35)) -> 1.262 | D39: =MAX(MAX(Batt1!C35,Batt1!E35,Batt1!G35),MAX(Batt2!C35,Batt2!E35,Batt2!G35),MAX(Batt3!C35,Batt3!E35,Batt3!G35),MAX(Batt4!C35,Batt4!E35,Batt4!G35)) -> 1.283 | E39: =D39-C39 -> 0.021 | F39: =MAX(Batt1!I35,Batt2!I35,Batt3!I35,Batt4!I35) -> 0.012 | G39: =(Batt1!B35+Batt2!B35+Batt3!B35+Batt4!B35)/2 -> 0 | H39: =(Batt1!K35+Batt2!K35+Batt3!K35+Batt4!K35)/4 -> 0.9725 | I39: 0.94 | J39: Water added after SG measured.
A40: 45552 | B40: 30.5 | C40: =MIN(MIN(Batt1!C36,Batt1!E36,Batt1!G36),MIN(Batt2!C36,Batt2!E36,Batt2!G36),MIN(Batt3!C36,Batt3!E36,Batt3!G36),MIN(Batt4!C36,Batt4!E36,Batt4!G36)) -> 1.255 | D40: =MAX(MAX(Batt1!C36,Batt1!E36,Batt1!G36),MAX(Batt2!C36,Batt2!E36,Batt2!G36),MAX(Batt3!C36,Batt3!E36,Batt3!G36),MAX(Batt4!C36,Batt4!E36,Batt4!G36)) -> 1.276 | E40: =D40-C40 -> 0.021 | F40: =MAX(Batt1!I36,Batt2!I36,Batt3!I36,Batt4!I36) -> 0.014 | G40: =(Batt1!B36+Batt2!B36+Batt3!B36+Batt4!B36)/2 -> 0 | H40: =(Batt1!K36+Batt2!K36+Batt3!K36+Batt4!K36)/4 -> 0.94875 | I40: 1 | J40: Water added after SG measured.
A41: 45557 | B41: 28 | C41: =MIN(MIN(Batt1!C37,Batt1!E37,Batt1!G37),MIN(Batt2!C37,Batt2!E37,Batt2!G37),MIN(Batt3!C37,Batt3!E37,Batt3!G37),MIN(Batt4!C37,Batt4!E37,Batt4!G37)) -> 1.26 | D41: =MAX(MAX(Batt1!C37,Batt1!E37,Batt1!G37),MAX(Batt2!C37,Batt2!E37,Batt2!G37),MAX(Batt3!C37,Batt3!E37,Batt3!G37),MAX(Batt4!C37,Batt4!E37,Batt4!G37)) -> 1.283 | E41: =D41-C41 -> 0.023 | F41: =MAX(Batt1!I37,Batt2!I37,Batt3!I37,Batt4!I37) -> 0.018 | G41: =(Batt1!B37+Batt2!B37+Batt3!B37+Batt4!B37)/2 -> 0 | H41: =(Batt1!K37+Batt2!K37+Batt3!K37+Batt4!K37)/4 -> 0.97875 | I41: 1
A42: 45578 | B42: 26 | C42: =MIN(MIN(Batt1!C38,Batt1!E38,Batt1!G38),MIN(Batt2!C38,Batt2!E38,Batt2!G38),MIN(Batt3!C38,Batt3!E38,Batt3!G38),MIN(Batt4!C38,Batt4!E38,Batt4!G38)) -> 0 | D42: =MAX(MAX(Batt1!C38,Batt1!E38,Batt1!G38),MAX(Batt2!C38,Batt2!E38,Batt2!G38),MAX(Batt3!C38,Batt3!E38,Batt3!G38),MAX(Batt4!C38,Batt4!E38,Batt4!G38)) -> 0 | E42: =D42-C42 -> 0 | F42: =MAX(Batt1!I38,Batt2!I38,Batt3!I38,Batt4!I38) -> 0 | G42: =(Batt1!B38+Batt2!B38+Batt3!B38+Batt4!B38)/2 -> 0 | H42: =(Batt1!K38+Batt2!K38+Batt3!K38+Batt4!K38)/4 -> 0 | I42: 1
...

Sheet Batt1
A1: N.B. Subtract 0.004 from SG for each 5 degrees below 27 degrees to get corrected value for charge | M1: 6.37V
C2: Cells numbered from -ve end
D3: Cell 1 | F3: Cell 2 | H3: Cell 3 | J3: Battery (mls)
A4: Total water | C4: mls | D4: =SUM(D9:D42) -> 995 | F4: =SUM(F9:F42) -> 1065 | H4: =SUM(H9:H42) -> 1055 | J4: =D4+F4+H4 -> 3115
A5: Variation across cells | C5: % | D5: =D4/J4 -> 0.31942215 | F5: =F4/J4 -> 0.34189406 | H5: =H4/J4 -> 0.33868379
C7: Cell 1 | E7: Cell 2 | G7: Cell 3 | I7: Max. Diff. | J7: Average SG | K7: Charge
A8: Date | B8: Voltage | C8: SG | D8: Water (mls) | E8: SG | F8: Water (mls) | G8: SG | H8: Water (mls) | I8: SG | J8: (Temp. Corrected) | K8: Trojan Data | L8: Status
A9: =All!A13 -> 43636 | B9: 6.28 | C9: 1.27 | D9: 0 | E9: 1.27 | F9: 10 | G9: 1.27 | H9: 0 | I9: =MAX(C9,E9,G9)-MIN(C9,E9,G9) -> 0 | J9: =((C9+E9+G9)/3) -> 1.27 | K9: 0.965 | L9: Trojan data Temp. corrected (New)
A10: =All!A14 -> 43637 | B10: 6.63 | C10: 1.289 | D10: 0 | E10: 1.287 | F10: 0 | G10: 1.289 | H10: 0 | I10: =MAX(C10,E10,G10)-MIN(C10,E10,G10) -> 0.002 | J10: =((C10+E10+G10)/3) -> 1.2883333 | K10: 1.06
A11: =All!A15 -> 43638 | B11: 7.08 | C11: 1.294 | D11: 0 | E11: 1.293 | F11: 0 | G11: 1.295 | H11: 0 | I11: =MAX(C11,E11,G11)-MIN(C11,E11,G11) -> 0.002 | J11: =((C11+E11+G11)/3) -> 1.294 | K11: 1.09
A12: =All!A16 -> 43660 | C12: 1.263 | D12: 30 | E12: 1.265 | F12: 30 | G12: 1.273 | H12: 25 | I12: =MAX(C12,E12,G12)-MIN(C12,E12,G12) -> 0.01 | J12: =((C12+E12+G12)/3) -> 1.267 | K12: 0.96 | L12: Trojan data Temp. corrected
A13: =All!A17 -> 43661 | C13: 1.272 | D13: 0 | E13: 1.272 | F13: 0 | G13: 1.275 | H13: 0 | I13: =MAX(C13,E13,G13)-MIN(C13,E13,G13) -> 0.003 | J13: =((C13+E13+G13)/3) -> 1.273 | K13: 1 | L13: Trojan data Temp. corrected
A14: =All!A18 -> 43698 | C14: 1.298 | D14: 35 | E14: 1.298 | F14: 40 | G14: 1.3 | H14: 40 | I14: =MAX(C14,E14,G14)-MIN(C14,E14,G14) -> 0.002 | J14: =((C14+E14+G14)/3) -> 1.2986667 | K14: 1.11
A15: =All!A19 -> 43705 | C15: 1.284 | D15: 0 | E15: 1.283 | F15: 0 | G15: 1.286 | H15: 0 | I15: =MAX(C15,E15,G15)-MIN(C15,E15,G15) -> 0.003 | J15: =((C15+E15+G15)/3) -> 1.2843333 | K15: 1.035
A16: =All!A20 -> 43726 | C16: 1.275 | D16: 30 | E16: 1.274 | F16: 30 | G16: 1.277 | H16: 30 | I16: =MAX(C16,E16,G16)-MIN(C16,E16,G16) -> 0.003 | J16: =((C16+E16+G16)/3) -> 1.2753333 | K16: 1 | L16: Trojan data Temp. corrected
A17: =All!A21 -> 43756 | C17: 1.302 | D17: 40 | E17: 1.302 | F17: 55 | G17: 1.302 | H17: 50 | I17: =MAX(C17,E17,G17)-MIN(C17,E17,G17) -> 0 | J17: =((C17+E17+G17)/3) -> 1.302 | K17: 1.12
A18: =All!A22 -> 43757 | B18: 6.75 | C18: 1.283 | D18: 0 | E18: 1.276 | F18: 0 | G18: 1.281 | H18: 0 | I18: =MAX(C18,E18,G18)-MIN(C18,E18,G18) -> 0.007 | J18: =((C18+E18+G18)/3) -> 1.28 | K18: 1 | L18: Trojan data Temp. corrected
A19: =All!A23 -> 44449 | B19: 6.63 | D19: 210 | F19: 220 | H19: 210
A20: =All!A24 -> 44450 | C20: 1.238 | D20: 0 | E20: 1.255 | F20: 0 | G20: 1.25 | H20: 0 | I20: =MAX(C20,E20,G20)-MIN(C20,E20,G20) -> 0.017 | J20: =((C20+E20+G20)/3) -> 1.2476667 | K20: 0.85
A21: =All!A25 -> 44452 | C21: 1.27 | D21: 0 | E21: 1.275 | F21: 0 | G21: 1.27 | H21: 0 | I21: =MAX(C21,E21,G21)-MIN(C21,E21,G21) -> 0.005 | J21: =((C21+E21+G21)/3) -> 1.2716667 | K21: 0.975
A22: =All!A26 -> 44453 | C22: 1.292 | D22: 0 | E22: 1.291 | F22: 0 | G22: 1.292 | H22: 0 | I22: =MAX(C22,E22,G22)-MIN(C22,E22,G22) -> 0.001 | J22: =((C22+E22+G22)/3) -> 1.2916667 | K22: 1.08
A23: =All!A27 -> 44462 | C23: 1.291 | D23: 30 | E23: 1.291 | F23: 20 | G23: 1.295 | H23: 20 | I23: =MAX(C23,E23,G23)-MIN(C23,E23,G23) -> 0.004 | J23: =((C23+E23+G23)/3) -> 1.2923333 | K23: 1.08
A24: =All!A28 -> 44671 | C24: 1.29 | D24: 20 | E24: 1.298 | F24: 25 | G24: 1.298 | H24: 25 | I24: =MAX(C24,E24,G24)-MIN(C24,E24,G24) -> 0.008 | J24: =((C24+E24+G24)/3) -> 1.2953333 | K24: 1.095
A25: =All!A29 -> 44724 | B25: 6.73 | C25: 1.3 | D25: 35 | E25: 1.305 | F25: 35 | G25: 1.305 | H25: 45 | I25: =MAX(C25,E25,G25)-MIN(C25,E25,G25) -> 0.005 | J25: =((C25+E25+G25)/3) -> 1.3033333 | K25: 1.115
A26: =All!A30 -> 44729 | C26: 1.286 | E26: 1.288 | G26: 1.289 | I26: =MAX(C26,E26,G26)-MIN(C26,E26,G26) -> 0.003 | J26: =((C26+E26+G26)/3) -> 1.2876667 | K26: 1.06
A27: =All!A31 -> 44759 | C27: 1.284 | D27: 50 | E27: 1.283 | F27: 50 | G27: 1.285 | H27: 45 | I27: =MAX(C27,E27,G27)-MIN(C27,E27,G27) -> 0.002 | J27: =((C27+E27+G27)/3) -> 1.284 | K27: 1.035
A28: =All!A32 -> 44801 | C28: 1.277 | D28: 40 | E28: 1.282 | F28: 30 | G28: 1.283 | H28: 30 | I28: =MAX(C28,E28,G28)-MIN(C28,E28,G28) -> 0.006 | J28: =((C28+E28+G28)/3) -> 1.2806667 | K28: 1.02
A29: =All!A33 -> 44844 | D29: 80 | F29: 110 | H29: 110 | I29: =MAX(C29,E29,G29)-MIN(C29,E29,G29) -> 0 | J29: =((C29+E29+G29)/3) -> 0
A30: =All!A34 -> 44846 | C30: 1.273 | E30: 1.273 | G30: 1.271 | I30: =MAX(C30,E30,G30)-MIN(C30,E30,G30) -> 0.002 | J30: =((C30+E30+G30)/3) -> 1.2723333 | K30: 0.975
A31: =All!A35 -> 44848 | C31: 1.282 | E31: 1.283 | G31: 1.283 | I31: =MAX(C31,E31,G31)-MIN(C31,E31,G31) -> 0.001 | J31: =((C31+E31+G31)/3) -> 1.2826667 | K31: 1.03
A32: =All!A36 -> 45050 | C32: 1.295 | D32: 65 | E32: 1.298 | F32: 65 | G32: 1.298 | H32: 65 | I32: =MAX(C32,E32,G32)-MIN(C32,E32,G32) -> 0.003 | J32: =((C32+E32+G32)/3) -> 1.297 | K32: 1.11
A33: =All!A37 -> 45072 | C33: 1.27 | D33: 0 | E33: 1.274 | F33: 0 | G33: 1.273 | H33: 0 | I33: =MAX(C33,E33,G33)-MIN(C33,E33,G33) -> 0.004 | J33: =((C33+E33+G33)/3) -> 1.2723333 | K33: 0.975
A34: =All!A38 -> 45082 | C34: 1.292 | D34: 30 | E34: 1.295 | F34: 30 | G34: 1.298 | H34: 30 | I34: =MAX(C34,E34,G34)-MIN(C34,E34,G34) -> 0.006 | J34: =((C34+E34+G34)/3) -> 1.295 | K34: 1.095
A35: =All!A39 -> 45545 | C35: 1.283 | D35: 50 | E35: 1.282 | F35: 50 | G35: 1.271 | H35: 50 | I35: =MAX(C35,E35,G35)-MIN(C35,E35,G35) -> 0.012 | J35: =((C35+E35+G35)/3) -> 1.2786667 | K35: 1.01
A36: =All!A40 -> 45552 | C36: 1.272 | D36: 0 | E36: 1.276 | F36: 20 | G36: 1.275 | H36: 20 | I36: =MAX(C36,E36,G36)-MIN(C36,E36,G36) -> 0.004 | J36: =((C36+E36+G36)/3) -> 1.2743333 | K36: 0.985
A37: =All!A41 -> 45557 | C37: 1.28 | D37: 0 | E37: 1.282 | G37: 1.268 | I37: =MAX(C37,E37,G37)-MIN(C37,E37,G37) -> 0.014 | J37: =((C37+E37+G37)/3) -> 1.2766667 | K37: 1
A38: =All!A42 -> 45578 | D38: 70 | F38: 60 | H38: 60 | I38: =MAX(C38,E38,G38)-MIN(C38,E38,G38) -> 0 | J38: =((C38+E38+G38)/3) -> 0
A39: =All!A43 -> 45585 | C39: 1.284 | D39: 20 | E39: 1.288 | F39: 20 | G39: 1.279 | H39: 30 | I39: =MAX(C39,E39,G39)-MIN(C39,E39,G39) -> 0.009 | J39: =((C39+E39+G39)/3) -> 1.2836667 | K39: 1.035 | L39: All cells overfilled by 20mls
A40: =All!A44 -> 45797 | B40: 6.66 | C40: 1.292 | D40: 60 | E40: 1.296 | F40: 60 | G40: 1.283 | H40: 70 | I40: =MAX(C40,E40,G40)-MIN(C40,E40,G40) -> 0.013 | J40: =((C40+E40+G40)/3) -> 1.2903333 | K40: 1.065
A41: =All!A45 -> 45834 | C41: 1.268 | D41: 60 | E41: 1.272 | F41: 50 | G41: 1.27 | H41: 50 | I41: =MAX(C41,E41,G41)-MIN(C41,E41,G41) -> 0.004 | J41: =((C41+E41+G41)/3) -> 1.27 | K41: 0.96
...

Sheet Batt2
C2: Cells numbered from -ve end
D3: Cell 1 | F3: Cell 2 | H3: Cell 3 | J3: Battery (mls)
A4: Total water | C4: mls | D4: =SUM(D9:D54) -> 1295 | F4: =SUM(F9:F54) -> 1300 | H4: =SUM(H9:H54) -> 1300 | J4: =D4+F4+H4 -> 3895
A5: Variation across cells | C5: % | D5: =D4/J4 -> 0.33247754 | F5: =F4/J4 -> 0.33376123 | H5: =H4/J4 -> 0.33376123
C7: Cell 1 | E7: Cell 2 | G7: Cell 3 | I7: Max. Diff. | J7: Average SG | K7: Charge
A8: Date | B8: Voltage | C8: SG | D8: Water (mls) | E8: SG | F8: Water (mls) | G8: SG | H8: Water (mls) | I8: SG | J8: (Temp. Corrected) | K8: Trojan Data | L8: Status
A9: =All!A13 -> 43636 | B9: 6.27 | C9: 1.267 | D9: 0 | E9: 1.267 | F9: 20 | G9: 1.265 | H9: 0 | I9: =MAX(C9,E9,G9)-MIN(C9,E9,G9) -> 0.002 | J9: =((C9+E9+G9)/3) -> 1.2663333 | K9: 0.945 | L9: Trojan data Temp. corrected (New)
A10: =All!A14 -> 43637 | B10: 6.62 | C10: 1.288 | D10: 0 | E10: 1.287 | F10: 0 | G10: 1.287 | H10: 0 | I10: =MAX(C10,E10,G10)-MIN(C10,E10,G10) -> 0.001 | J10: =((C10+E10+G10)/3) -> 1.2873333 | K10: 1.055
A11: =All!A15 -> 43638 | B11: 7.08 | C11: 1.292 | D11: 0 | E11: 1.288 | F11: 0 | G11: 1.293 | H11: 0 | I11: =MAX(C11,E11,G11)-MIN(C11,E11,G11) -> 0.005 | J11: =((C11+E11+G11)/3) -> 1.291 | K11: 1.075
A12: =All!A16 -> 43660 | C12: 1.266 | D12: 25 | E12: 1.256 | F12: 10 | G12: 1.26 | H12: 25 | I12: =MAX(C12,E12,G12)-MIN(C12,E12,G12) -> 0.01 | J12: =((C12+E12+G12)/3) -> 1.2606667 | K12: 0.93 | L12: Trojan data Temp. corrected (Batt. 2 is lowest SOC)
A13: =All!A17 -> 43661 | C13: 1.274 | D13: 0 | E13: 1.268 | F13: 0 | G13: 1.273 | H13: 0 | I13: =MAX(C13,E13,G13)-MIN(C13,E13,G13) -> 0.006 | J13: =((C13+E13+G13)/3) -> 1.2716667 | K13: 0.985 | L13: Trojan data Temp. corrected
A14: =All!A18 -> 43698 | C14: 1.296 | D14: 50 | E14: 1.289 | F14: 50 | G14: 1.297 | H14: 50 | I14: =MAX(C14,E14,G14)-MIN(C14,E14,G14) -> 0.008 | J14: =((C14+E14+G14)/3) -> 1.294 | K14: 1.09
A15: =All!A19 -> 43705 | C15: 1.279 | D15: 0 | E15: 1.275 | F15: 0 | G15: 1.279 | H15: 0 | I15: =MAX(C15,E15,G15)-MIN(C15,E15,G15) -> 0.004 | J15: =((C15+E15+G15)/3) -> 1.2776667 | K15: 1.005
A16: =All!A20 -> 43726 | C16: 1.272 | D16: 35 | E16: 1.265 | F16: 30 | G16: 1.268 | H16: 30 | I16: =MAX(C16,E16,G16)-MIN(C16,E16,G16) -> 0.007 | J16: =((C16+E16+G16)/3) -> 1.2683333 | K16: 0.965 | L16: Trojan data Temp. corrected
A17: =All!A21 -> 43756 | C17: 1.298 | D17: 40 | E17: 1.295 | F17: 40 | G17: 1.297 | H17: 45 | I17: =MAX(C17,E17,G17)-MIN(C17,E17,G17) -> 0.003 | J17: =((C17+E17+G17)/3) -> 1.2966667 | K17: 1.11
A18: =All!A22 -> 43757 | B18: 6.73 | C18: 1.281 | D18: 0 | E18: 1.278 | F18: 0 | G18: 1.274 | H18: 0 | I18: =MAX(C18,E18,G18)-MIN(C18,E18,G18) -> 0.007 | J18: =((C18+E18+G18)/3) -> 1.2776667 | K18: 0.995 | L18: Trojan data Temp. corrected
A19: =All!A23 -> 44449 | B19: 6.61 | D19: 220 | F19: 220 | H19: 230
A20: =All!A24 -> 44450 | C20: 1.238 | D20: 0 | E20: 1.24 | F20: 0 | G20: 1.23 | H20: 0 | I20: =MAX(C20,E20,G20)-MIN(C20,E20,G20) -> 0.01 | J20: =((C20+E20+G20)/3) -> 1.236 | K20: 0.79
A21: =All!A25 -> 44452 | C21: 1.26 | D21: 0 | E21: 1.265 | F21: 0 | G21: 1.258 | H21: 0 | I21: =MAX(C21,E21,G21)-MIN(C21,E21,G21) -> 0.007 | J21: =((C21+E21+G21)/3) -> 1.261 | K21: 0.92
A22: =All!A26 -> 44453 | C22: 1.286 | D22: 0 | E22: 1.286 | F22: 0 | G22: 1.283 | H22: 0 | I22: =MAX(C22,E22,G22)-MIN(C22,E22,G22) -> 0.003 | J22: =((C22+E22+G22)/3) -> 1.285 | K22: 1.04
A23: =All!A27 -> 44462 | C23: 1.291 | D23: 20 | E23: 1.288 | F23: 20 | G23: 1.29 | H23: 20 | I23: =MAX(C23,E23,G23)-MIN(C23,E23,G23) -> 0.003 | J23: =((C23+E23+G23)/3) -> 1.2896667 | K23: 1.07
A24: =All!A28 -> 44671 | C24: 1.292 | D24: 20 | E24: 1.29 | F24: 20 | G24: 1.288 | H24: 20 | I24: =MAX(C24,E24,G24)-MIN(C24,E24,G24) -> 0.004 | J24: =((C24+E24+G24)/3) -> 1.29 | K24: 1.07
A25: =All!A29 -> 44724 | B25: 6.7 | C25: 1.3 | D25: 45 | E25: 1.3 | F25: 40 | G25: 1.298 | H25: 40 | I25: =MAX(C25,E25,G25)-MIN(C25,E25,G25) -> 0.002 | J25: =((C25+E25+G25)/3) -> 1.2993333 | K25: 1.11
A26: =All!A30 -> 44729 | C26: 1.289 | E26: 1.287 | G26: 1.287 | I26: =MAX(C26,E26,G26)-MIN(C26,E26,G26) -> 0.002 | J26: =((C26+E26+G26)/3) -> 1.2876667 | K26: 1.06
A27: =All!A31 -> 44759 | C27: 1.285 | D27: 40 | E27: 1.283 | F27: 40 | G27: 1.28 | H27: 40 | I27: =MAX(C27,E27,G27)-MIN(C27,E27,G27) -> 0.005 | J27: =((C27+E27+G27)/3) -> 1.2826667 | K27: 1.03
A28: =All!A32 -> 44801 | C28: 1.281 | D28: 30 | E28: 1.279 | F28: 30 | G28: 1.282 | H28: 30 | I28: =MAX(C28,E28,G28)-MIN(C28,E28,G28) -> 0.003 | J28: =((C28+E28+G28)/3) -> 1.2806667 | K28: 1.02
A29: =All!A33 -> 44844 | D29: 110 | F29: 130 | H29: 120 | I29: =MAX(C29,E29,G29)-MIN(C29,E29,G29) -> 0 | J29: =((C29+E29+G29)/3) -> 0
A30: =All!A34 -> 44846 | C30: 1.274 | E30: 1.259 | G30: 1.266 | I30: =MAX(C30,E30,G30)-MIN(C30,E30,G30) -> 0.015 | J30: =((C30+E30+G30)/3) -> 1.2663333 | K30: 0.945
A31: =All!A35 -> 44848 | C31: 1.28 | E31: 1.276 | G31: 1.28 | I31: =MAX(C31,E31,G31)-MIN(C31,E31,G31) -> 0.004 | J31: =((C31+E31+G31)/3) -> 1.2786667 | K31: 1.01
A32: =All!A36 -> 45050 | C32: 1.297 | D32: 70 | E32: 1.294 | F32: 65 | G32: 1.296 | H32: 70 | I32: =MAX(C32,E32,G32)-MIN(C32,E32,G32) -> 0.003 | J32: =((C32+E32+G32)/3) -> 1.2956667 | K32: 1.1
A33: =All!A37 -> 45072 | C33: 1.272 | D33: 0 | E33: 1.268 | F33: 0 | G33: 1.268 | H33: 0 | I33: =MAX(C33,E33,G33)-MIN(C33,E33,G33) -> 0.004 | J33: =((C33+E33+G33)/3) -> 1.2693333 | K33: 0.96
A34: =All!A38 -> 45082 | C34: 1.292 | D34: 30 | E34: 1.29 | F34: 30 | G34: 1.29 | H34: 30 | I34: =MAX(C34,E34,G34)-MIN(C34,E34,G34) -> 0.002 | J34: =((C34+E34+G34)/3) -> 1.2906667 | K34: 1.075 | L34: All cells slightly overfilled
A35: =All!A39 -> 45545 | C35: 1.266 | D35: 60 | E35: 1.27 | F35: 50 | G35: 1.269 | H35: 50 | I35: =MAX(C35,E35,G35)-MIN(C35,E35,G35) -> 0.004 | J35: =((C35+E35+G35)/3) -> 1.2683333 | K35: 0.95
A36: =All!A40 -> 45552 | C36: 1.262 | D36: 20 | E36: 1.263 | F36: 0 | G36: 1.265 | H36: 10 | I36: =MAX(C36,E36,G36)-MIN(C36,E36,G36) -> 0.003 | J36: =((C36+E36+G36)/3) -> 1.2633333 | K36: 0.93
A37: =All!A41 -> 45557 | C37: 1.266 | D37: 0 | E37: 1.272 | F37: 0 | G37: 1.272 | H37: 0 | I37: =MAX(C37,E37,G37)-MIN(C37,E37,G37) -> 0.006 | J37: =((C37+E37+G37)/3) -> 1.27 | K37: 0.965
A38: =All!A42 -> 45578 | D38: 60 | F38: 80 | H38: 70 | I38: =MAX(C38,E38,G38)-MIN(C38,E38,G38) -> 0 | J38: =((C38+E38+G38)/3) -> 0
A39: =All!A43 -> 45585 | C39: 1.274 | D39: 20 | E39: 1.279 | F39: 20 | G39: 1.279 | H39: 20 | I39: =MAX(C39,E39,G39)-MIN(C39,E39,G39) -> 0.005 | J39: =((C39+E39+G39)/3) -> 1.2773333 | K39: 1 | L39: All cells overfilled by 20mls
A40: =All!A44 -> 45797 | B40: 6.64 | C40: 1.283 | D40: 50 | E40: 1.285 | F40: 60 | G40: 1.285 | H40: 60 | I40: =MAX(C40,E40,G40)-MIN(C40,E40,G40) -> 0.002 | J40: =((C40+E40+G40)/3) -> 1.2843333 | K40: 1.035
A41: =All!A45 -> 45834 | C41: 1.265 | D41: 65 | E41: 1.265 | F41: 50 | G41: 1.265 | H41: 50 | I41: =MAX(C41,E41,G41)-MIN(C41,E41,G41) -> 0 | J41: =((C41+E41+G41)/3) -> 1.265 | K41: 0.935
A42: =All!A46 -> 45855 | B42: 6.65 | C42: 1.263 | D42: 45 | E42: 1.263 | F42: 55 | G42: 1.265 | H42: 45 | I42: =MAX(C42,E42,G42)-MIN(C42,E42,G42) -> 0.002 | J42: =((C42+E42+G42)/3) -> 1.2636667 | K42: 0.935
...

Sheet Batt3
C2: Cells numbered from -ve end
D3: Cell 1 | F3: Cell 2 | H3: Cell 3 | J3: Battery (mls)
A4: Total water | C4: mls | D4: =SUM(D9:D40) -> 945 | F4: =SUM(F9:F40) -> 980 | H4: =SUM(H9:H40) -> 980 | J4: =D4+F4+H4 -> 2905
A5: Variation across cells | C5: % | D5: =D4/J4 -> 0.3253012 | F5: =F4/J4 -> 0.3373494 | H5: =H4/J4 -> 0.3373494
C7: Cell 1 | E7: Cell 2 | G7: Cell 3 | I7: Max. Diff. | J7: Average SG | K7: Charge
A8: Date | B8: Voltage | C8: SG | D8: Water (mls) | E8: SG | F8: Water (mls) | G8: SG | H8: Water (mls) | I8: SG | J8: (Temp. Corrected) | K8: Trojan Data | L8: Status
A9: =All!A13 -> 43636 | B9: 6.26 | C9: 1.27 | D9: 10 | E9: 1.271 | F9: 15 | G9: 1.273 | H9: 10 | I9: =MAX(C9,E9,G9)-MIN(C9,E9,G9) -> 0.003 | J9: =((C9+E9+G9)/3) -> 1.2713333 | K9: 0.97 | L9: Trojan data Temp. corrected (New)
A10: =All!A14 -> 43637 | B10: 6.62 | C10: 1.289 | D10: 0 | E10: 1.289 | F10: 0 | G10: 1.292 | H10: 0 | I10: =MAX(C10,E10,G10)-MIN(C10,E10,G10) -> 0.003 | J10: =((C10+E10+G10)/3) -> 1.29 | K10: 1.07
A11: =All!A15 -> 43638 | B11: 7.08 | C11: 1.29 | D11: 0 | E11: 1.293 | F11: 0 | G11: 1.297 | H11: 0 | I11: =MAX(C11,E11,G11)-MIN(C11,E11,G11) -> 0.007 | J11: =((C11+E11+G11)/3) -> 1.2933333 | K11: 1.085
A12: =All!A16 -> 43660 | C12: 1.266 | D12: 20 | E12: 1.263 | F12: 25 | G12: 1.273 | H12: 20 | I12: =MAX(C12,E12,G12)-MIN(C12,E12,G12) -> 0.01 | J12: =((C12+E12+G12)/3) -> 1.2673333 | K12: 0.96 | L12: Trojan data Temp. corrected
A13: =All!A17 -> 43661 | C13: 1.276 | D13: 0 | E13: 1.276 | F13: 0 | G13: 1.277 | H13: 0 | I13: =MAX(C13,E13,G13)-MIN(C13,E13,G13) -> 0.001 | J13: =((C13+E13+G13)/3) -> 1.2763333 | K13: 1.005 | L13: Trojan data Temp. corrected
A14: =All!A18 -> 43698 | C14: 1.295 | D14: 50 | E14: 1.299 | F14: 40 | G14: 1.3 | H14: 35 | I14: =MAX(C14,E14,G14)-MIN(C14,E14,G14) -> 0.005 | J14: =((C14+E14+G14)/3) -> 1.298 | K14: 1.11
A15: =All!A19 -> 43705 | C15: 1.279 | D15: 0 | E15: 1.284 | F15: 0 | G15: 1.288 | H15: 0 | I15: =MAX(C15,E15,G15)-MIN(C15,E15,G15) -> 0.009 | J15: =((C15+E15+G15)/3) -> 1.2836667 | K15: 1.035
A16: =All!A20 -> 43726 | C16: 1.27 | D16: 20 | E16: 1.274 | F16: 25 | G16: 1.275 | H16: 25 | I16: =MAX(C16,E16,G16)-MIN(C16,E16,G16) -> 0.005 | J16: =((C16+E16+G16)/3) -> 1.273 | K16: 0.99 | L16: Trojan data Temp. corrected
A17: =All!A21 -> 43756 | C17: 1.298 | D17: 50 | E17: 1.299 | F17: 40 | G17: 1.305 | H17: 50 | I17: =MAX(C17,E17,G17)-MIN(C17,E17,G17) -> 0.007 | J17: =((C17+E17+G17)/3) -> 1.3006667 | K17: 1.12
A18: =All!A22 -> 43757 | B18: 6.74 | C18: 1.274 | D18: 0 | E18: 1.286 | F18: 0 | G18: 1.283 | H18: 0 | I18: =MAX(C18,E18,G18)-MIN(C18,E18,G18) -> 0.012 | J18: =((C18+E18+G18)/3) -> 1.281 | K18: 1 | L18: Trojan data Temp. corrected
A19: =All!A23 -> 44449 | B19: 6.64 | D19: 220 | F19: 220 | H19: 220
A20: =All!A24 -> 44450 | C20: 1.243 | D20: 0 | E20: 1.266 | F20: 0 | G20: 1.255 | H20: 0 | I20: =MAX(C20,E20,G20)-MIN(C20,E20,G20) -> 0.023 | J20: =((C20+E20+G20)/3) -> 1.2546667 | K20: 0.885
A21: =All!A25 -> 44452 | C21: 1.268 | D21: 0 | E21: 1.283 | F21: 0 | G21: 1.278 | H21: 0 | I21: =MAX(C21,E21,G21)-MIN(C21,E21,G21) -> 0.015 | J21: =((C21+E21+G21)/3) -> 1.2763333 | K21: 0.993
A22: =All!A26 -> 44453 | C22: 1.289 | D22: 0 | E22: 1.293 | F22: 0 | G22: 1.298 | H22: 0 | I22: =MAX(C22,E22,G22)-MIN(C22,E22,G22) -> 0.009 | J22: =((C22+E22+G22)/3) -> 1.2933333 | K22: 1.085
A23: =All!A27 -> 44462 | C23: 1.292 | D23: 20 | E23: 1.3 | F23: 30 | G23: 1.3 | H23: 30 | I23: =MAX(C23,E23,G23)-MIN(C23,E23,G23) -> 0.008 | J23: =((C23+E23+G23)/3) -> 1.2973333 | K23: 1.1
A24: =All!A28 -> 44671 | C24: 1.292 | D24: 20 | E24: 1.297 | F24: 20 | G24: 1.296 | H24: 20 | I24: =MAX(C24,E24,G24)-MIN(C24,E24,G24) -> 0.005 | J24: =((C24+E24+G24)/3) -> 1.295 | K24: 1.095
A25: =All!A29 -> 44724 | B25: 6.67 | C25: 1.31 | D25: 40 | E25: 1.308 | F25: 35 | G25: 1.31 | H25: 40 | I25: =MAX(C25,E25,G25)-MIN(C25,E25,G25) -> 0.002 | J25: =((C25+E25+G25)/3) -> 1.3093333 | K25: 1.175
A26: =All!A30 -> 44729 | C26: 1.291 | E26: 1.292 | G26: 1.293 | I26: =MAX(C26,E26,G26)-MIN(C26,E26,G26) -> 0.002 | J26: =((C26+E26+G26)/3) -> 1.292 | K26: 1.08
A27: =All!A31 -> 44759 | C27: 1.28 | D27: 30 | E27: 1.285 | F27: 30 | G27: 1.29 | H27: 30 | I27: =MAX(C27,E27,G27)-MIN(C27,E27,G27) -> 0.01 | J27: =((C27+E27+G27)/3) -> 1.285 | K27: 1.04
A28: =All!A32 -> 44801 | C28: 1.28 | D28: 30 | E28: 1.285 | F28: 30 | G28: 1.288 | H28: 30 | I28: =MAX(C28,E28,G28)-MIN(C28,E28,G28) -> 0.008 | J28: =((C28+E28+G28)/3) -> 1.2843333 | K28: 1.035
A29: =All!A33 -> 44844 | D29: 135 | F29: 150 | H29: 145 | I29: =MAX(C29,E29,G29)-MIN(C29,E29,G29) -> 0 | J29: =((C29+E29+G29)/3) -> 0
A30: =All!A34 -> 44846 | C30: 1.257 | E30: 1.261 | G30: 1.263 | I30: =MAX(C30,E30,G30)-MIN(C30,E30,G30) -> 0.006 | J30: =((C30+E30+G30)/3) -> 1.2603333 | K30: 0.915
A31: =All!A35 -> 44848 | C31: 1.271 | E31: 1.279 | G31: 1.281 | I31: =MAX(C31,E31,G31)-MIN(C31,E31,G31) -> 0.01 | J31: =((C31+E31+G31)/3) -> 1.277 | K31: 1
A32: =All!A36 -> 45050 | C32: 1.293 | D32: 60 | E32: 1.3 | F32: 60 | G32: 1.301 | H32: 60 | I32: =MAX(C32,E32,G32)-MIN(C32,E32,G32) -> 0.008 | J32: =((C32+E32+G32)/3) -> 1.298 | K32: 1.12
A33: =All!A37 -> 45072 | C33: 1.267 | D33: 0 | E33: 1.273 | F33: 0 | G33: 1.278 | H33: 0 | I33: =MAX(C33,E33,G33)-MIN(C33,E33,G33) -> 0.011 | J33: =((C33+E33+G33)/3) -> 1.2726667 | K33: 0.98
A34: =All!A38 -> 45082 | C34: 1.288 | D34: 40 | E34: 1.296 | F34: 40 | G34: 1.298 | H34: 35 | I34: =MAX(C34,E34,G34)-MIN(C34,E34,G34) -> 0.01 | J34: =((C34+E34+G34)/3) -> 1.294 | K34: 1.09
A35: =All!A39 -> 45545 | C35: 1.268 | D35: 50 | E35: 1.275 | F35: 50 | G35: 1.28 | H35: 60 | I35: =MAX(C35,E35,G35)-MIN(C35,E35,G35) -> 0.012 | J35: =((C35+E35+G35)/3) -> 1.2743333 | K35: 0.985
A36: =All!A40 -> 45552 | C36: 1.266 | D36: 20 | E36: 1.272 | F36: 0 | G36: 1.27 | H36: 20 | I36: =MAX(C36,E36,G36)-MIN(C36,E36,G36) -> 0.006 | J36: =((C36+E36+G36)/3) -> 1.2693333 | K36: 0.96
A37: =All!A41 -> 45557 | C37: 1.269 | D37: 0 | E37: 1.283 | F37: 0 | G37: 1.275 | H37: 0 | I37: =MAX(C37,E37,G37)-MIN(C37,E37,G37) -> 0.014 | J37: =((C37+E37+G37)/3) -> 1.2756667 | K37: 0.995
A38: =All!A42 -> 45578 | D38: 50 | F38: 70 | H38: 50 | I38: =MAX(C38,E38,G38)-MIN(C38,E38,G38) -> 0 | J38: =((C38+E38+G38)/3) -> 0
A39: =All!A43 -> 45585 | C39: 1.278 | D39: 30 | E39: 1.286 | F39: 20 | G39: 1.285 | H39: 40 | I39: =MAX(C39,E39,G39)-MIN(C39,E39,G39) -> 0.008 | J39: =((C39+E39+G39)/3) -> 1.283 | K39: 1.03 | L39: All cells overfilled by 20mls
A40: =All!A44 -> 45797 | B40: 6.64 | C40: 1.287 | D40: 50 | E40: 1.295 | F40: 80 | G40: 1.291 | H40: 60 | I40: =MAX(C40,E40,G40)-MIN(C40,E40,G40) -> 0.008 | J40: =((C40+E40+G40)/3) -> 1.291 | K40: 1.075
A41: =All!A45 -> 45834 | C41: 1.267 | D41: 55 | E41: 1.272 | F41: 50 | G41: 1.268 | H41: 50 | I41: =MAX(C41,E41,G41)-MIN(C41,E41,G41) -> 0.005 | J41: =((C41+E41+G41)/3) -> 1.269 | K41: 0.958
A42: =All!A46 -> 45855 | B42: 6.65 | C42: 1.262 | D42: 45 | E42: 1.267 | F42: 45 | G42: 1.267 | H42: 45 | I42: =MAX(C42,E42,G42)-MIN(C42,E42,G42) -> 0.005 | J42: =((C42+E42+G42)/3) -> 1.2653333 | K42: 0.935
...

Sheet Batt4
C2: Cells numbered from -ve end
D3: Cell 1 | F3: Cell 2 | H3: Cell 3 | J3: Battery (mls)
A4: Total water | C4: mls | D4: =SUM(D9:D53) -> 1275 | F4: =SUM(F9:F53) -> 1320 | H4: =SUM(H9:H53) -> 1320 | J4: =D4+F4+H4 -> 3915
A5: Variation across cells | C5: % | D5: =D4/J4 -> 0.3256705 | F5: =F4/J4 -> 0.33716475 | H5: =H4/J4 -> 0.33716475
C7: Cell 1 | E7: Cell 2 | G7: Cell 3 | I7: Max. Diff. | J7: Average SG | K7: Charge
A8: Date | B8: Voltage | C8: SG | D8: Water (mls) | E8: SG | F8: Water (mls) | G8: SG | H8: Water (mls) | I8: SG | J8: (Temp. Corrected) | K8: Trojan Data | L8: Status
A9: =All!A13 -> 43636 | B9: 6.29 | C9: 1.267 | D9: 10 | E9: 1.265 | F9: 15 | G9: 1.267 | H9: 0 | I9: =MAX(C9,E9,G9)-MIN(C9,E9,G9) -> 0.002 | J9: =((C9+E9+G9)/3) -> 1.2663333 | K9: 0.945 | L9: Trojan data Temp. corrected (New)
A10: =All!A14 -> 43637 | B10: 6.61 | C10: 1.284 | D10: 0 | E10: 1.283 | F10: 0 | G10: 1.283 | H10: 0 | I10: =MAX(C10,E10,G10)-MIN(C10,E10,G10) -> 0.001 | J10: =((C10+E10+G10)/3) -> 1.2833333 | K10: 1.03 | L10: Batt. 4 is lowest SOC
A11: =All!A15 -> 43638 | B11: 7.08 | C11: 1.29 | D11: 0 | E11: 1.288 | F11: 0 | G11: 1.29 | H11: 0 | I11: =MAX(C11,E11,G11)-MIN(C11,E11,G11) -> 0.002 | J11: =((C11+E11+G11)/3) -> 1.2893333 | K11: 1.06 | L11: Batt. 4 is lowest SOC
A12: =All!A16 -> 43660 | C12: 1.266 | D12: 20 | E12: 1.263 | F12: 20 | G12: 1.27 | H12: 15 | I12: =MAX(C12,E12,G12)-MIN(C12,E12,G12) -> 0.007 | J12: =((C12+E12+G12)/3) -> 1.2663333 | K12: 0.955 | L12: Trojan data Temp. corrected
A13: =All!A17 -> 43661 | C13: 1.274 | D13: 0 | E13: 1.269 | F13: 0 | G13: 1.271 | H13: 0 | I13: =MAX(C13,E13,G13)-MIN(C13,E13,G13) -> 0.005 | J13: =((C13+E13+G13)/3) -> 1.2713333 | K13: 0.98 | L13: Trojan data Temp. corrected
A14: =All!A18 -> 43698 | C14: 1.294 | D14: 40 | E14: 1.292 | F14: 50 | G14: 1.292 | H14: 50 | I14: =MAX(C14,E14,G14)-MIN(C14,E14,G14) -> 0.002 | J14: =((C14+E14+G14)/3) -> 1.2926667 | K14: 1.085
A15: =All!A19 -> 43705 | C15: 1.279 | D15: 0 | E15: 1.275 | F15: 0 | G15: 1.279 | H15: 0 | I15: =MAX(C15,E15,G15)-MIN(C15,E15,G15) -> 0.004 | J15: =((C15+E15+G15)/3) -> 1.2776667 | K15: 1.005
A16: =All!A20 -> 43726 | C16: 1.271 | D16: 25 | E16: 1.27 | F16: 20 | G16: 1.269 | H16: 20 | I16: =MAX(C16,E16,G16)-MIN(C16,E16,G16) -> 0.002 | J16: =((C16+E16+G16)/3) -> 1.27 | K16: 0.975 | L16: Trojan data Temp. corrected
A17: =All!A21 -> 43756 | C17: 1.3 | D17: 50 | E17: 1.297 | F17: 55 | G17: 1.297 | H17: 50 | I17: =MAX(C17,E17,G17)-MIN(C17,E17,G17) -> 0.003 | J17: =((C17+E17+G17)/3) -> 1.298 | K17: 1.11
A18: =All!A22 -> 43757 | B18: 6.71 | C18: 1.273 | D18: 0 | E18: 1.273 | F18: 0 | G18: 1.267 | H18: 0 | I18: =MAX(C18,E18,G18)-MIN(C18,E18,G18) -> 0.006 | J18: =((C18+E18+G18)/3) -> 1.271 | K18: 0.985 | L18: Trojan data Temp. corrected
A19: =All!A23 -> 44449 | B19: 6.6 | D19: 220 | F19: 220 | H19: 220
A20: =All!A24 -> 44450 | C20: 1.238 | D20: 0 | E20: 1.253 | F20: 0 | G20: 1.238 | H20: 0 | I20: =MAX(C20,E20,G20)-MIN(C20,E20,G20) -> 0.015 | J20: =((C20+E20+G20)/3) -> 1.243 | K20: 0.825
A21: =All!A25 -> 44452 | C21: 1.262 | D21: 0 | E21: 1.266 | F21: 0 | G21: 1.267 | H21: 0 | I21: =MAX(C21,E21,G21)-MIN(C21,E21,G21) -> 0.005 | J21: =((C21+E21+G21)/3) -> 1.265 | K21: 0.94
A22: =All!A26 -> 44453 | C22: 1.283 | D22: 0 | E22: 1.288 | F22: 0 | G22: 1.283 | H22: 0 | I22: =MAX(C22,E22,G22)-MIN(C22,E22,G22) -> 0.005 | J22: =((C22+E22+G22)/3) -> 1.2846667 | K22: 1.04
A23: =All!A27 -> 44462 | C23: 1.288 | D23: 20 | E23: 1.288 | F23: 20 | G23: 1.287 | H23: 20 | I23: =MAX(C23,E23,G23)-MIN(C23,E23,G23) -> 0.001 | J23: =((C23+E23+G23)/3) -> 1.2876667 | K23: 1.06
A24: =All!A28 -> 44671 | C24: 1.286 | D24: 20 | E24: 1.288 | F24: 20 | G24: 1.288 | H24: 25 | I24: =MAX(C24,E24,G24)-MIN(C24,E24,G24) -> 0.002 | J24: =((C24+E24+G24)/3) -> 1.2873333 | K24: 1.05
A25: =All!A29 -> 44724 | B25: 6.7 | C25: 1.298 | D25: 40 | E25: 1.297 | F25: 35 | G25: 1.298 | H25: 35 | I25: =MAX(C25,E25,G25)-MIN(C25,E25,G25) -> 0.001 | J25: =((C25+E25+G25)/3) -> 1.2976667 | K25: 1.11
A26: =All!A30 -> 44729 | C26: 1.284 | E26: 1.284 | G26: 1.281 | I26: =MAX(C26,E26,G26)-MIN(C26,E26,G26) -> 0.003 | J26: =((C26+E26+G26)/3) -> 1.283 | K26: 1.03
A27: =All!A31 -> 44759 | C27: 1.277 | D27: 30 | E27: 1.276 | F27: 30 | G27: 1.277 | H27: 30 | I27: =MAX(C27,E27,G27)-MIN(C27,E27,G27) -> 0.001 | J27: =((C27+E27+G27)/3) -> 1.2766667 | K27: 1
A28: =All!A32 -> 44801 | C28: 1.277 | D28: 30 | E28: 1.276 | F28: 30 | G28: 1.28 | H28: 30 | I28: =MAX(C28,E28,G28)-MIN(C28,E28,G28) -> 0.004 | J28: =((C28+E28+G28)/3) -> 1.2776667 | K28: 1
A29: =All!A33 -> 44844 | D29: 130 | F29: 160 | H29: 150 | I29: =MAX(C29,E29,G29)-MIN(C29,E29,G29) -> 0 | J29: =((C29+E29+G29)/3) -> 0
A30: =All!A34 -> 44846 | C30: 1.257 | E30: 1.257 | G30: 1.255 | I30: =MAX(C30,E30,G30)-MIN(C30,E30,G30) -> 0.002 | J30: =((C30+E30+G30)/3) -> 1.2563333 | K30: 0.89
A31: =All!A35 -> 44848 | C31: 1.27 | E31: 1.273 | G31: 1.267 | I31: =MAX(C31,E31,G31)-MIN(C31,E31,G31) -> 0.006 | J31: =((C31+E31+G31)/3) -> 1.27 | K31: 0.965 | L31: Cell 3 only ~95%
A32: =All!A36 -> 45050 | C32: 1.291 | D32: 60 | E32: 1.29 | F32: 60 | G32: 1.29 | H32: 60 | I32: =MAX(C32,E32,G32)-MIN(C32,E32,G32) -> 0.001 | J32: =((C32+E32+G32)/3) -> 1.2903333 | K32: 1.07
A33: =All!A37 -> 45072 | C33: 1.266 | D33: 0 | E33: 1.266 | G33: 1.266 | I33: =MAX(C33,E33,G33)-MIN(C33,E33,G33) -> 0 | J33: =((C33+E33+G33)/3) -> 1.266 | K33: 0.945 | L33: Overfilled last time
A34: =All!A38 -> 45082 | C34: 1.29 | D34: 30 | E34: 1.289 | F34: 30 | G34: 1.286 | H34: 30 | I34: =MAX(C34,E34,G34)-MIN(C34,E34,G34) -> 0.004 | J34: =((C34+E34+G34)/3) -> 1.2883333 | K34: 1.06
A35: =All!A39 -> 45545 | C35: 1.265 | D35: 50 | E35: 1.272 | F35: 50 | G35: 1.262 | H35: 60 | I35: =MAX(C35,E35,G35)-MIN(C35,E35,G35) -> 0.01 | J35: =((C35+E35+G35)/3) -> 1.2663333 | K35: 0.945
A36: =All!A40 -> 45552 | C36: 1.26 | D36: 0 | E36: 1.269 | F36: 0 | G36: 1.255 | H36: 10 | I36: =MAX(C36,E36,G36)-MIN(C36,E36,G36) -> 0.014 | J36: =((C36+E36+G36)/3) -> 1.2613333 | K36: 0.92 | L36: 3rd cell only 88%,
A37: =All!A41 -> 45557 | C37: 1.266 | D37: 0 | E37: 1.278 | F37: 0 | G37: 1.26 | H37: 0 | I37: =MAX(C37,E37,G37)-MIN(C37,E37,G37) -> 0.018 | J37: =((C37+E37+G37)/3) -> 1.268 | K37: 0.955 | L37: 3rd cell now 92%,
A38: =All!A42 -> 45578 | D38: 60 | F38: 70 | H38: 70 | I38: =MAX(C38,E38,G38)-MIN(C38,E38,G38) -> 0 | J38: =((C38+E38+G38)/3) -> 0
A39: =All!A43 -> 45585 | C39: 1.277 | D39: 30 | E39: 1.281 | F39: 20 | G39: 1.27 | H39: 20 | I39: =MAX(C39,E39,G39)-MIN(C39,E39,G39) -> 0.011 | J39: =((C39+E39+G39)/3) -> 1.276 | K39: 1 | L39: All cells overfilled by 20mls
A40: =All!A44 -> 45797 | B40: 6.65 | C40: 1.285 | D40: 60 | E40: 1.29 | F40: 60 | G40: 1.282 | H40: 60 | I40: =MAX(C40,E40,G40)-MIN(C40,E40,G40) -> 0.008 | J40: =((C40+E40+G40)/3) -> 1.2856667 | K40: 1.045
A41: =All!A45 -> 45834 | C41: 1.267 | D41: 60 | E41: 1.27 | F41: 60 | G41: 1.263 | H41: 60 | I41: =MAX(C41,E41,G41)-MIN(C41,E41,G41) -> 0.007 | J41: =((C41+E41+G41)/3) -> 1.2666667 | K41: 0.945
A42: =All!A46 -> 45855 | C42: 1.26 | D42: 45 | E42: 1.266 | F42: 45 | G42: 1.259 | H42: 45 | I42: =MAX(C42,E42,G42)-MIN(C42,E42,G42) -> 0.007 | J42: =((C42+E42+G42)/3) -> 1.2616667 | K42: 0.925
...
